BEGIN:VCALENDAR
VERSION:2.0
PRODID:icalendar-ruby
CALSCALE:GREGORIAN
METHOD:PUBLISH
BEGIN:VEVENT
DTSTAMP:20260421T054242Z
UID:7-1012810@ambassadorbc.org
DTSTART:20241210T000000Z
DTEND:20241210T010000Z
CLASS:PUBLIC
CREATED:20260420T203154
DESCRIPTION:Please email us at ambassadorbcmiami@gmail.com for more informa
 tion.
LAST-MODIFIED:20260420T203154
LOCATION:
SUMMARY:Small Group (Online)
URL;VALUE=URI:https://www.ambassadorbc.org/events/small-group-online--7/202
 4-12-09
ATTACH;FILENAME=Small-Groups-Online.jpg;FMTTYPE=image/jpeg:https://dq5pwpg1
 q8ru0.cloudfront.net/2023/04/11/15/40/37/21dd42b2-1d17-4ed5-b971-6ce885487
 090/Small-Groups-Online.jpg
END:VEVENT
END:VCALENDAR
